BEGIN:VCALENDAR
VERSION:2.0
PRODID:-//Come On Out English - ECPv6.15.18//NONSGML v1.0//EN
CALSCALE:GREGORIAN
METHOD:PUBLISH
X-ORIGINAL-URL:https://comeonoutenglish.com
X-WR-CALDESC:Events for Come On Out English
REFRESH-INTERVAL;VALUE=DURATION:PT1H
X-Robots-Tag:noindex
X-PUBLISHED-TTL:PT1H
BEGIN:VTIMEZONE
TZID:Asia/Tokyo
BEGIN:STANDARD
TZOFFSETFROM:+0900
TZOFFSETTO:+0900
TZNAME:JST
DTSTART:20230101T000000
END:STANDARD
END:VTIMEZONE
BEGIN:VEVENT
DTSTART;TZID=Asia/Tokyo:20240723T160000
DTEND;TZID=Asia/Tokyo:20240823T180000
DTSTAMP:20260421T092958
CREATED:20240517T080502Z
LAST-MODIFIED:20241206T091339Z
UID:25052-1721750400-1724436000@comeonoutenglish.com
SUMMARY:[P3] Dates: Tuesday\, July 23rd - Friday\, July 26th | Location: 3-1-3 Kitano\, Mitaka City\, Tokyo
DESCRIPTION:Thank you to everyone who participated Kohitsuji Summer School Program 2024! The event was a huge success\, and we appreciate all your support. We will be back in 2025! Stay tuned…\nHere are some pictures from our 2024 program: \n\n			\n				\n			\n			\n				\n			\n			\n				\n			\n			\n				\n			\n			\n				\n			\n			\n				\n			\n			\n				\n			\n			\n				\n			\n			\n				\n			\n			\n				\n			\n			\n				\n			\n			\n				\n			\n			\n				\n			\n			\n				\n			\n			\n				\n			\n			\n				\n			\n			\n				\n			\n			\n				\n			\n			\n				\n			\n			\n				\n			\n			\n				\n			\n			\n				\n			\n			\n				\n			\n			\n				\n			\n			\n				\n			\n			\n				\n			\n			\n				\n			\n			\n				\n			\n			\n				\n			\n			\n				\n			\n			\n				\n			\n			\n				\n			\n			\n				\n			\n			\n				\n			\n		\n\n  \nDetails of our 2024 program: \nDates:\nTuesday\, July 23rd\, 2024 – Friday\, July 26th\, 2024\nLocation: Kohitsuji International Training Center\nAges: 6-12\n1 day: 3\,000JPY | 2 days: 6\,000JPY | 3 days: 9\,000JPY| 4days: 10\,000JPY\nCurrent COOE Student Pricing: 1 day: 6\,000JPY | 2 days: 6\,000JPY | 3 days: 6\,000JPY| 4days: 6\,000JPY \nRegister Now\n  \nGet ready to boost your child’s English skills with our dynamic curriculum. Our engaging lessons and personalized approach ensure effective learning and confidence building. Join us for a summer of language mastery and fun! \nProgram Dates: \nTuesday\, July 23rd\, 2024 – Friday\, July 26th\, 2024 \nLocation: Kohitsuji International Training Center \nAges: 6-12 years old \nTime: 14:00-18:00 \nCurriculum\nGroup 1 Schedule: \n14:00-14:50: Group English Lesson \n14:50-15:00: Break and Snack Time (English Video Plays during Snack time) \n15:00-15:50: Group English Lesson \n15:50-16:00: Open Conversation\, Finish Worksheets \nGroup 2 Schedule: \n16:00-16:50: Group English Lesson \n16:50-17:00: Break and Snack Time (English Video Plays during Snack time) \n17:00-17:50: Group English Lesson \n17:50-18:00: Open Conversation\, Finish Worksheets \nProgram Objectives: \n\nIntroduce oneself and a friend confidently.\nShare personal information\, including place of origin.\nExpress preferences and desires related to hobbies\, sports\, and activities.\n\n\nFamily Talk:\n\nDiscuss family members by stating their names.\nProvide information about the number of siblings and their names.\nForm sentences such as “My dad’s name is…” and “I have a brother/sister.”\n\n\nMaking New Friends:\n\nAsk questions to initiate conversations.\nInquire about a person’s name\, place of origin\, age\, and well-being.\nDiscuss personal likes and favorites\, fostering connections through shared interests.\n\n\nVocabulary Building:\n\nExpand vocabulary related to food\, activities\, hobbies\, countries\, siblings\, age\, and favorites.\nPractice using new words in sentences for effective communication.\n\n\nGrammar Mastery:\n\nMaster sentence structures like “I like\,” “I don’t like\,” “I want\,” “I have\,” and “I will.”\nEngage in conversations about hobbies confidently.\nLearn the art of asking permission and framing questions appropriately.\n\n\n\n\nMeet your Instructors!\n \nWe have wonderful foreign mentors joining us from the U.S. and the U.K. that will be interacting with the students! \n  \n\n\n\n\n\nRegister for the event:\nParent Name *Parent Email *Student NameStudent AgeParent Questions?Are you a current Come On Out English Paid Subscriber or Student ?NoYesPlease enter your subscription emailWhat package are you interested in? *1 day: 3\,000JPY2 day: 6\,000JPY3 day: 9\,000JPY4 day: 10\,000JPYHow many days would you like to participate? *1 day:2 days3 days4 daysSelect the preferred timeOption : 2:00PM-4:00PMOption : 4:00PM-6:00PMNotePrice for your ticket is 6000JPY. Preferred Payment OptionPay Here Using the Credit CardPay Using Domestic Bank Transfer (To Mizuho Bank)Proceed payments with Credit / Debit Card *
URL:https://comeonoutenglish.com/program/kohitsuji-summer-school-english-program/
LOCATION:Kohitsuji\, 3-1-3 Kitano\, Mitaka City\, Tokyo\, 181-0003\, Japan
CATEGORIES:Past Event
ATTACH;FMTTYPE=image/png:https://comeonoutenglish.com/wp-content/uploads/2024/05/july.png
ORGANIZER;CN="Come On Out English":MAILTO:info@comeonoutenglish.com
END:VEVENT
BEGIN:VEVENT
DTSTART;TZID=Asia/Tokyo:20240724T090000
DTEND;TZID=Asia/Tokyo:20240726T163000
DTSTAMP:20260421T092958
CREATED:20240620T014243Z
LAST-MODIFIED:20240812T144501Z
UID:25445-1721811600-1722011400@comeonoutenglish.com
SUMMARY:[P4] English & Science Program: July 24th - July 26th\, 2024
DESCRIPTION:Thank you to everyone who participated in the English & Science Program 2024! The event was a huge success\, and we appreciate all your support. We will be back in 2025! Stay tuned…\nHere are some pictures from our 2024 program: \n\n			\n				\n			\n			\n				\n			\n			\n				\n			\n			\n				\n			\n			\n				\n			\n			\n				\n			\n			\n				\n			\n			\n				\n			\n			\n				\n			\n			\n				\n			\n			\n				\n			\n			\n				\n			\n			\n				\n			\n			\n				\n			\n			\n				\n			\n			\n				\n			\n			\n				\n			\n			\n				\n			\n			\n				\n			\n			\n				\n			\n			\n				\n			\n			\n				\n			\n			\n				\n			\n			\n				\n			\n			\n				\n			\n			\n				\n			\n			\n				\n			\n			\n				\n			\n			\n				\n			\n			\n				\n			\n			\n				\n			\n			\n				\n			\n			\n				\n			\n			\n				\n			\n			\n				\n			\n			\n				\n			\n			\n				\n			\n			\n				\n			\n			\n				\n			\n			\n				\n			\n			\n				\n			\n			\n				\n			\n			\n				\n			\n			\n				\n			\n			\n				\n			\n			\n				\n			\n			\n				\n			\n			\n				\n			\n			\n				\n			\n			\n				\n			\n			\n				\n			\n			\n				\n			\n			\n				\n			\n			\n				\n			\n		\n\n\n\nDetails of our 2024 program:\nDates: Wednesday\, July 24th – Friday\, July 26th\, 2024\nTimes: Wednesday\, July 24th: 14:00 – 17:00\nThursday\, July 25th: 14:00 – 17:00 \nFriday\, July 26th: 9:30 – 16:30 \n      Ages: Elementary School – Junior High School (小中）\nThis program is a collaboration project between Netchu and Come On Out English. We are conducting a Science/English Summer Program! \nWe will have English Mentors from top universities in the U.S. and the U.K.\, such as Oxford\, UCLA\, and Harvard! \nThis is a valuable opportunity to speak English with real native speakers from all over the world! Let’s learn Science while speaking in English. \n \nPlease apply on the Netchu website here!\nYou may email netchuclass@gmail.com or info@comeonoutenglish.com with any questions. \n日本語も大丈夫です！
URL:https://comeonoutenglish.com/program/p4-kohitsuji-english-science-program-july-24th-july-26th-2024/
LOCATION:Kohitsuji\, 3-1-3 Kitano\, Mitaka City\, Tokyo\, 181-0003\, Japan
CATEGORIES:Past Event
ATTACH;FMTTYPE=image/png:https://comeonoutenglish.com/wp-content/uploads/2024/06/Website-Banners.png
ORGANIZER;CN="Come On Out English":MAILTO:info@comeonoutenglish.com
END:VEVENT
END:VCALENDAR