BEGIN:VCALENDAR
VERSION:2.0
PRODID:-//Come On Out English - ECPv6.15.18//NONSGML v1.0//EN
CALSCALE:GREGORIAN
METHOD:PUBLISH
X-ORIGINAL-URL:https://comeonoutenglish.com
X-WR-CALDESC:Events for Come On Out English
REFRESH-INTERVAL;VALUE=DURATION:PT1H
X-Robots-Tag:noindex
X-PUBLISHED-TTL:PT1H
BEGIN:VTIMEZONE
TZID:Asia/Tokyo
BEGIN:STANDARD
TZOFFSETFROM:+0900
TZOFFSETTO:+0900
TZNAME:JST
DTSTART:20230101T000000
END:STANDARD
END:VTIMEZONE
BEGIN:VEVENT
DTSTART;TZID=Asia/Tokyo:20240830T000000
DTEND;TZID=Asia/Tokyo:20241001T000000
DTSTAMP:20260421T042443
CREATED:20240208T142647Z
LAST-MODIFIED:20240227T133858Z
UID:22566-1724976000-1727740800@comeonoutenglish.com
SUMMARY:[P9] Date:  August 30 - October 1  | Location: Colorado\, USA
DESCRIPTION:Come join us for an amazing outdoor experience in the Rocky Mountains of Colorado! \nLocation : Steamboat Springs\, CO \nAvailability: August 30th-October 1st \nPick 2 nights that work best for you! Arrival into Denver International Airport(DIA)\, Camp is\nlocated about 2.5 hours by car just outside Steamboat Springs\, CO. (Contact us for\ntransportation tips or assistance with arranging transportation) \nFor More Information: https://www.comeonoutadventures.com/outdoor-adventure-packages
URL:https://comeonoutenglish.com/program/mountains-of-colorado/
LOCATION:Steamboat Springs\, CO\, Steamboat Springs\, CO\, United States
CATEGORIES:Camps
ATTACH;FMTTYPE=image/png:https://comeonoutenglish.com/wp-content/uploads/2024/01/8.png
ORGANIZER;CN="Come On Out Adventures":MAILTO:Info@comeonoutadventures.com
END:VEVENT
END:VCALENDAR