BEGIN:VCALENDAR
VERSION:2.0
PRODID:-//Come On Out English - ECPv6.15.18//NONSGML v1.0//EN
CALSCALE:GREGORIAN
METHOD:PUBLISH
X-WR-CALNAME:Come On Out English
X-ORIGINAL-URL:https://comeonoutenglish.com
X-WR-CALDESC:Events for Come On Out English
REFRESH-INTERVAL;VALUE=DURATION:PT1H
X-Robots-Tag:noindex
X-PUBLISHED-TTL:PT1H
BEGIN:VTIMEZONE
TZID:Asia/Tokyo
BEGIN:STANDARD
TZOFFSETFROM:+0900
TZOFFSETTO:+0900
TZNAME:JST
DTSTART:20230101T000000
END:STANDARD
END:VTIMEZONE
BEGIN:VEVENT
DTSTART;TZID=Asia/Tokyo:20241003T080000
DTEND;TZID=Asia/Tokyo:20241006T170000
DTSTAMP:20260421T024955
CREATED:20200508T081036Z
LAST-MODIFIED:20241210T084046Z
UID:22543-1727942400-1728234000@comeonoutenglish.com
SUMMARY:[Q1] Date: October 3 – October 6 | Location: Winterpark\, CO\, USA
DESCRIPTION:Arrival: October 3rd/4th\, 2025\nDeparture: October 6th/7th\, 2025\nLocation: Winterpark\, CO \nActivities:\n-Pontoon Boat Day on Lake Granby\, fishing and / or relax and watch the beautiful scenery!\n-Horseback Riding/Zip Lining (optional activities available)\n-Rocky Mountain National Park\, Driving Tour and/or Day hike \nLodging: Cabin/ House\nCabin is located in the city of Winter Park\, CO. Walking distance from town\, food and grocery\nstores. CampFire outside the house for cooking smores and enjoying the clear starry nights! \nTransportation: Arriving by Plane to Denver International Airport. Then you can travel by car\,\nbus or train to Winterpark\, CO. We will pick you up from the train station in Winterpark on\nOctober 3rd or 4th\, 2024. \nCost: $600 per person (3 nights) \nContact Us for questions on transportation\, group pricing and to confirm your spot for 2024 \nFor more information: https://www.comeonoutadventures.com/event/colorado-base-camps/
URL:https://comeonoutenglish.com/program/adventure-camps/
LOCATION:Colorado Rocky Mountain Retreat Venue\, Winterpark\, CO\, United States
CATEGORIES:Mountain Retreats
ATTACH;FMTTYPE=image/png:https://comeonoutenglish.com/wp-content/uploads/2024/01/7.png
ORGANIZER;CN="Come On Out Adventures":MAILTO:Info@comeonoutadventures.com
END:VEVENT
END:VCALENDAR