BEGIN:VCALENDAR
VERSION:2.0
PRODID:-//Come On Out English - ECPv6.15.18//NONSGML v1.0//EN
CALSCALE:GREGORIAN
METHOD:PUBLISH
X-ORIGINAL-URL:https://comeonoutenglish.com
X-WR-CALDESC:Events for Come On Out English
REFRESH-INTERVAL;VALUE=DURATION:PT1H
X-Robots-Tag:noindex
X-PUBLISHED-TTL:PT1H
BEGIN:VTIMEZONE
TZID:Asia/Tokyo
BEGIN:STANDARD
TZOFFSETFROM:+0900
TZOFFSETTO:+0900
TZNAME:JST
DTSTART:20230101T000000
END:STANDARD
END:VTIMEZONE
BEGIN:VEVENT
DTSTART;VALUE=DATE:20241017
DTEND;VALUE=DATE:20241027
DTSTAMP:20260421T024146
CREATED:20240208T143846Z
LAST-MODIFIED:20250321T101903Z
UID:22581-1729123200-1729987199@comeonoutenglish.com
SUMMARY:[P9] Date for Group 1: August 16th-20th \, Date for Group 2: August 21st-26th | Location:  Alaska\, USA
DESCRIPTION:Looking to book an exciting and rewarding Alaska fishing trip? Alaska Fish On Charters provides full service Alaska fishing trips with salmon fishing and halibut fishing experience that is second to none. With over 70 years of experience guiding Alaska fishing trips on the Kenai river and the Halibut fishing in the Cook Inlet. The Kenai river is world renowned for salmon fishing and the Cook Inlet is highly regarded for its halibut fishing. Alaska Fish On Charters is located in the perfect location for Alaska fishing trips. \nGroup #1: October 17th-20th\n16th\, Friday: Arrival\nLODGING: Anchorage or Nikiski\n17th\, Saturday: Afternoon/Evening\nLODGING: Nikisiki\n18th\, Sunday: Jake? Big River Lakes Fly In?\nLODGING: Nikisiki\n19th\, Monday: Halibut\nLODGING: Homer\n20th\, Tuesday: Off Day\nLODGING: ?\nGroup Size: \nGroup #2: 21st-26th\n21st\, Wednesday:\nLODGING:\n22nd\, Thursday:\nLODGING:\n23rd\, Friday:\nLODGING:\n24th\, Saturday: Russian River?\nLODGING:\n25th\, Sunday: Big River Lakes?\nLODGING:\n26th\, Monday: Depart from Anchorage Airport
URL:https://comeonoutenglish.com/program/2025-alaska-groups/
CATEGORIES:Adventures
ATTACH;FMTTYPE=image/png:https://comeonoutenglish.com/wp-content/uploads/2024/02/you30.png
END:VEVENT
END:VCALENDAR