BEGIN:VCALENDAR
VERSION:2.0
PRODID:-//Come On Out English - ECPv6.15.18//NONSGML v1.0//EN
CALSCALE:GREGORIAN
METHOD:PUBLISH
X-WR-CALNAME:Come On Out English
X-ORIGINAL-URL:https://comeonoutenglish.com
X-WR-CALDESC:Events for Come On Out English
REFRESH-INTERVAL;VALUE=DURATION:PT1H
X-Robots-Tag:noindex
X-PUBLISHED-TTL:PT1H
BEGIN:VTIMEZONE
TZID:Asia/Tokyo
BEGIN:STANDARD
TZOFFSETFROM:+0900
TZOFFSETTO:+0900
TZNAME:JST
DTSTART:20240101T000000
END:STANDARD
END:VTIMEZONE
BEGIN:VEVENT
DTSTART;VALUE=DATE:20250729
DTEND;VALUE=DATE:20250803
DTSTAMP:20260420T135614
CREATED:20240117T144505Z
LAST-MODIFIED:20250807T123339Z
UID:22277-1753747200-1754179199@comeonoutenglish.com
SUMMARY:[P7] Date: July 29 – Aug 2 | Location: Miura\, Kanagawa
DESCRIPTION:三浦海岸　夏の英語アドベンチャーキャンプ\n　　　　テーマ：自分の自信をみつける\nカモンアウトイングリッシュでは、春に引き続き夏のイングリッシュアドベンチャーキャンプを三浦海岸のビーチハウス「にじのはしの家」で開催します！ \n英語ネイティブのキャンプカウンセラーと仲間と共に過ごすサマーキャンプ。 \n新しい言葉を覚え、楽しい時間を過ごし、自分の中の「自信」をみつける旅！ \n滞在先は海を見下ろせる絶景が自慢のビーチハウス。 \n三浦海岸周辺の自然に触れるフィールドトリップも充実。 \n小学生～高校生まで定員15名のアットホームな規模感で、 \n英語学習・自然体験・共同生活どれも \nそれぞれに合ったサポートを予定しています。 \n  \n\n\n全日程参加コース（4泊5日）\n日程：7月29日〜8月2日\n参加費：95\,000円\n※現在カモンアウトイングリッシュ英語オンラインクラス受講中の方は15\,000円引 \n後半のみ参加コース（2泊3日）\n日程：7月31日〜8月2日\n参加費：55\,000円\n※現在カモンアウトイングリッシュオンラインクラス受講中の方は10\,000円引 \n定員：全体で15名 \n英語クラス・無料体験レッスンはこちらから！ \n　※キャンプ前に、申し込んで \n　　　　　　　　　　　　　　　　　　　　　　受講生になると、受講生割引が適用されます♪ \n  \n　　　　　　　　　　　　　　＼　　本キャンプへのお申し込みはこちらから　　／\n　　　　　　　　　　　　　　　　　　　お申込み〆切：2025年7月20日\n\n\n🚐【集合場所】\n\n品川駅 時計台（中央JR改札付近）：午前9:30〜10:00ごろ\nこひつじ国際教育センター（東京都三鷹市北野3-1-3）：午前8:45〜9:30ごろ\nhttps://kohitsujikyouikuce.jp\n三浦海岸駅：午前11:30ごろ\n\n※上記集合場所からの出発が可能です。ご希望をお知らせください。 \n※時間の詳細等は変更の可能性あり。 \nお申込みの方の人数等によって調整しご連絡いたします。 \n\n🔖オンライン事前説明会\nプログラム内容の詳しい説明をオンラインで行います。 \n実際に同伴するスタッフに直接質問していただくことができます。 \nぜひご参加ください。 \n日時： \n6月1日（日）午前9:00〜9:30 \n6月7日（金）午後8:30〜9:00 \n 　　👇お申し込みはこちらから \n　　　※お申込みを検討中の方も \n　　　　上記フォームにご記入いただくと説明会参加のご案内をお送りします。 \n　　　　本予約をまだ希望されない方は、支払いについての質問で \n　　　　　「後で支払う」を選択してください。まずは説明だけきいてみるという方も歓迎です！ \n  \nスケジュール　※参加申し込み者の人数年齢等に合わせ適宜調整変更あり\n7月29日（火）英語アドベンチャー1日目\n8:45-10:00  集合・移動\n11:30-12:00  現地到着・オリエンテーション（レインボーブリッジハウス）\n12:00-13:00  お弁当（持参）＆部屋割り\n13:30-15:00  英語アクティビティ（自己紹介、アイスブレイク）\n15:00-16:30  周辺散策ハイキング①（海岸・神社・農場）\n16:30-17:30 休憩\n17:30-19:00  夕食作り（ピザ作りワークショップ）・夕食\n19:00-20:30 英語映画、キャンプファイヤー（天候次第）／ゲームナイト\n20:30-22:00 入浴＆日記タイム\n21:00 小学生 就寝\n22:00 中学生以上就寝 \n7月30日（水）英語アドベンチャー2日目\n8:00-8:45 朝食作り\n9:00-10:00 英語レッスン／遠足準備\n10:30 フィールドトリップ①：フェリーで鋸南町へ、ハイキング＆パクチー農園訪問\n16:00-16:30 帰宿＆休憩\n16:30-17:30 英語レッスン\n17:30-19:00 夕食作り（ハンバーガー作り／BBQ）夕食\n19:00-20:30 ゲーム＆アクティビティナイト\n20:30-22:00 入浴＆日記タイム\n21:00 小学生 就寝\n22:00 中学生以上就寝 \n7月31日（木）英語アドベンチャー3日目\n8:00-9:00 朝食作り・朝食\n9:00-11:00 英語レッスン＆プロジェクト\n11:30-14:30 フィールドトリップ②：三浦海岸ビーチ（お弁当持参）\n15:00-16:00 帰宿＆休憩\n16:00-17:30 英語レッスン／プロジェクト\n17:30-19:00 夕食作り（ハンバーガー作り／BBQ）・夕食\n19:00-20:30 ゲーム＆アクティビティ\n20:30-22:00 入浴＆日記タイム／プロジェクト\n21:00 小学生 就寝\n22:00 中学生以上就寝 \n8月1日（金）英語アドベンチャー4日目\n8:00-8:45 朝食作り・朝食\n9:00-10:30 英語レッスン／遠足準備\n10:45 遠足③：城ヶ島と三崎魚市場へ\n16:00-16:30 帰宿＆休憩\n16:30-17:30 英語レッスン（発表練習／プロジェクト）\n17:30-19:00 夕食 シーフードBBQ（三崎の魚市場の食材使用）\n19:00-20:00 さよならキャンプファイヤー＆花火\n20:30-22:00 入浴＆日記／プロジェクト\n21:00 小学生 就寝\n22:00 中学生以上就寝 \n8月2日（土）英語アドベンチャー5日目\n8:00-9:00 朝食作り\n9:00-11:00 英語レッスン（発表練習／プロジェクト）\n11:00-12:00 周辺散策ハイキング②（海岸・神社・農場）\n12:00-14:00 ランチBBQ（保護者も招待） 保護者や先生への発表 \n🧳持ち物\n\nフィールドトリップ用小型リュック\n着替え（4泊5日分）・洗面用具（ダッフルバッグ／小型スーツケース）\n初日の昼食（お弁当）※捨てられる容器でお持ちください。\n筆記用具・筆箱\n虫除けスプレー\n動きやすい靴\nパジャマ（夜の部屋着/寝る時の服）\nバスタオル\nビーチ用品（プールバッグ、水泳帽、水着、ラッシュガード、日焼け止め、ゴーグル、サンダル※かかとのとまるもの推奨）\nライフジャケット（貸し出しあり・持参も可）\n帰りの交通費（Suica等交通系ICカード）\n\n※保護者がイベントに来ない場合交通系ICカードに、三浦海岸→品川の料金をチャージしてお持ちください。 \nこちらで用意させていただくもの\n\n食事：初日昼食以外はすべて提供\n※アレルギー・制限がある場合は要連絡\n英語教材、スケジュール資料（フォルダで提供）\n保護者向けLINEグループ\n毎日の1対1／グループ英語レッスン\n保険：本プログラム活動中の怪我等につきましては、参加者の皆様の名義で国内旅行保険に加入しその範囲内で対応させていただきます。（費用は参加費に含まれます。）\n\nスタッフについて\nCOOEの講師に加え英語ネイティブのキャンプカウンセラー4～5名が同行予定 \n日英バイリンガルスタッフ（保育士）が1名以上常駐\n※基本は英語のみのコミュニケーションですが、体調不良など緊急必要時は日英両方での対応が可能です。 \n補足事項 \n\n食物アレルギー／食事に制限のある場合は事前に申し込みフォーム等にてご連絡ください。\nフィールドトリップの移動：金曜の城ヶ島・三崎市場へはCOOE専用バンを使用します。\n\n\n2025年英語ネイティヴカウンセラー\n海外から下記のようなメンバーがCOOEの夏のプログラムに参加予定　\n　　　　　　　　　　　　　　　　　　　　　※本キャンプ参加メンバーは追って決定します。\n\n \n\n\n\nご興味をお持ちの方はお気軽にDM（インスタ／メール）にてお問合せください！\n\n\n\n\n			\n				\n			\n			\n				\n			\n			\n				\n			\n			\n				\n			\n			\n				\n			\n			\n				\n			\n			\n				\n			\n			\n				\n			\n			\n				\n			\n			\n				\n			\n			\n				\n			\n			\n				\n			\n			\n				\n			\n			\n				\n			\n			\n				\n			\n			\n				\n			\n			\n				\n			\n			\n				\n			\n			\n				\n			\n			\n				\n			\n			\n				\n			\n			\n				\n			\n			\n				\n			\n			\n				\n			\n			\n				\n			\n			\n				\n			\n			\n				\n			\n			\n				\n			\n			\n				\n			\n			\n				\n			\n			\n				\n			\n			\n				\n			\n			\n				\n			\n			\n				\n			\n			\n				\n			\n			\n				\n			\n			\n				\n			\n			\n				\n			\n			\n				\n			\n			\n				\n			\n			\n				\n			\n		\n\nキャンプお申込みフォーム\n　※お支払い完了時点で予約成立となります。\n　※まずは詳しい説明をきいてみたい！という方も下記フォームにご記入いただき「後で支払う」を選択してください。6月6日に開催いたしました説明会動画をお送りいたします。ご質問も遠慮なくご記入ください。スタッフより返信いたします。\n　※送信いただくと自動返信にて、ご案内メールが届きます。迷惑メールになってしまう場合もあるかと思いますので、ご確認いただき、もし受信できていないようでしたら、お手数ですがinfo★comeonoutenglish.com（★を＠に変えて）までメールにてお問合せください。\n\n保護者氏名（必須） *保護者メールアドレス（必須） *保護者電話番号参加希望者人数12参加者氏名参加者の年齢参加者氏名(2人目の子供)参加者の年齢 (2人目の子供)メッセージご質問参加者はカモンアウトイングリッシュの会員または生徒ですか？ 　※この機会にご入会でも割引適用あり *選択選択はいいいえ→無料のレベルチェック・体験レッスンにお申込みして会員になるいいえ→会員外として参加⭐️無料体験レッスン・レベルチェックに申込する ご希望のコースをお選びください（必須） *全日程コース（4泊）– 7月29日～8月2日 –  最終日は保護者様もご参加いただけるBBQランチあり（8月2日）後半のみコース（2泊）– 7月31日～8月2日 – 最終日は保護者様もご参加いただけるBBQランチあり（8月2日）ご希望のお支払い方法：国内銀行振込（みずほ銀行宛）クレジットカードで支払う後で支払う注記クレジットカードでのお支払いごとに4％の追加手数料がかかりますのでご了承ください.*銀行振込には追加の手数料はかかりません 合計金額は 55000JPY合計金額は 95000JPY合計金額は 45000JPY合計金額は 80000JPY合計金額は 110000JPY合計金額は 160000JPY合計金額は 90000JPY合計金額は 190000JPYクレジットカード/デビットカードでお支払いください *
URL:https://comeonoutenglish.com/program/miura-beach-summer-adventure-camp/
LOCATION:[Summer Camp Location]\, Miura\, Kanagawa\, Japan
CATEGORIES:Past Event
ATTACH;FMTTYPE=image/png:https://comeonoutenglish.com/wp-content/uploads/2024/01/Website-Banners-2.png
ORGANIZER;CN="Come On Out English":MAILTO:info@comeonoutenglish.com
END:VEVENT
BEGIN:VEVENT
DTSTART;VALUE=DATE:20250811
DTEND;VALUE=DATE:20250817
DTSTAMP:20260420T135614
CREATED:20200623T103204Z
LAST-MODIFIED:20250321T101715Z
UID:3702-1754870400-1755388799@comeonoutenglish.com
SUMMARY:[P8] Date:  August 11 - August 16 | Location: Fukuoka
DESCRIPTION:Event Date: August 11th-16th\, 2025\nProgram Location: Fukuoka\, Japan (in-person)\nFor More Information: https://oym-fukuoka.com\n\nDetails: We are excited to announce the upcoming Summer 2025 On Your Mark! English Camp. Overseas counselors (you!) will work with Japanese university student counselors to have a positive impact on Japanese high school students via global discussion topics and activities.\nOn Your Mark encourages and nurtures Japanese high school students to reflect on their future aspirations. High school students are divided into several advisory groups where they will have discussions in English on various topics with their peers and Overseas counselors. They will participate in many workshops\, presentations\, and collaborative activities to help practice and improve their English. Students will have opportunities to think deeply about who they want to become in the future\, with guidance from their counselors. Build lifelong connections and friendships in Japan while guiding and inspiring high school students. \n 
URL:https://comeonoutenglish.com/program/spring-english-adventure-camp-2025/
LOCATION:OYM Venue:\, Fukuoka\, Japan
CATEGORIES:Summer Programs,Workshops
ATTACH;FMTTYPE=image/png:https://comeonoutenglish.com/wp-content/uploads/2020/06/you2.png
ORGANIZER;CN="Come On Out English":MAILTO:info@comeonoutenglish.com
END:VEVENT
BEGIN:VEVENT
DTSTART;TZID=Asia/Tokyo:20260404T090000
DTEND;TZID=Asia/Tokyo:20260405T150000
DTSTAMP:20260420T135614
CREATED:20260125T024345Z
LAST-MODIFIED:20260417T022115Z
UID:27274-1775293200-1775401200@comeonoutenglish.com
SUMMARY:[P3] Date: March 2026 | Location: Miura Kaigan\, Rainbow Bridge House\, Japan
DESCRIPTION:🌸 Spring English Adventure Camp 🌸\n三浦海岸　春の英語アドベンチャーキャンプ\n日程：2026年4月4日(土)～4月5日(日)　1泊2日\n対象：小中学生（6歳～16歳）\n※幼児のご参加も受付可能ですので、受講生の方などぜひご相談ください。 \n\n🚐 集合場所\n品川駅 時計台（中央JR改札付近）\n午前9:30〜10:00ごろ \nこひつじ国際教育センター（東京都三鷹市北野3-1-3）\n午前8:45〜9:30ごろ\nhttps://kohitsujikyouikuce.jp \n三浦海岸駅\n午前11:30ごろ \n※上記集合場所からの出発が可能です。ご希望をお知らせください。\n※時間の詳細は変更の可能性があります。\n※参加人数に応じて調整しご連絡いたします。 \n\n🌟 このキャンプのポイント\n🔴 1泊2日家族から離れてお泊りチャレンジ\n🟠 ネイティブの先生と英語で話す環境で英会話に自信を！\n🟢 自然の中でのびのび楽しく遊ぼう！\n🟣 身の回りのことから楽しく英語を学ぼう！ \n\n🌟 参加費\n一般　28\,000円\n※COOE生徒割引　22\,000円 \n\n📅 Tentative Schedule\n予定スケジュール\n※参考スケジュールです。参加者の年齢・英語レベルに応じて調整する場合があります。 \n◆ 1日目（土）\n10:15　三浦へ出発\n11:45〜12:30　レインボーブリッジハウス到着／オリエンテーション\n12:30〜13:15　昼食（お弁当持参）\n※初日の昼食はお弁当をご持参ください（使い捨て容器） \n13:30〜15:00　英語レッスン（マンツーマン＆グループ）\n15:00〜16:30　午後のハイキング（ビーチ／神社／農園）\n16:30〜17:30　休憩／入浴 \n17:30〜19:00　ピザ作りワークショップ（自分でピザを作ろう！）\n19:00〜20:00　英語映画ナイト／キャンプファイヤー（天候による）\n20:00～21:30　英語ジャーナル（日記）タイム／入浴\n21:30～22:00　就寝（年齢に合わせて） \n◆ 2日目（日）\n8:00〜9:00　朝食クッキング／ベーキング\n9:00〜10:30　英語レッスン＆アクティビティ\n10:30〜11:30　荷造り・昼食準備 \n12:00〜15:00　保護者参加ランチ＋イースターアクティビティ\n※同時開催 EASTER SUNDAY PARTY に、お迎えの保護者の方は2名まで参加可能。\n※お子様のパーティー参加費はキャンプ費用に含まれます。 \n\n🧳 持ち物\nフィールドトリップ用小型リュック\n着替え（1泊2日分）\n洗面用具\n初日の昼食（お弁当）※捨てられる容器でお持ちください\n水筒\n筆記用具・筆箱\n動きやすい靴\nパジャマ（夜の部屋着 / 寝る時の服）\nバスタオル\n水遊び用サンダル（かかとのとまるもの）\n帰りの交通費（Suica等交通系ICカード） \n\n🌟 こちらで用意するもの\n食事：初日昼食以外はすべて提供\n※アレルギー等がある場合は事前にご連絡ください \n英語教材・スケジュール資料\n保護者向けLINEグループ\n毎日の1対1 / グループ英語レッスン \n保険：\n活動中の怪我などについては国内旅行保険に加入し、その範囲内で対応いたします。 \n\n👩‍🏫 スタッフ\nCOOE英語ネイティブ講師\n日英バイリンガルスタッフ（保育士） \n※通常は英語でのコミュニケーションですが、緊急時は日本語対応可能です。 \n保護者への連絡は公式LINEグループで行います。 \n\n❓ Q & A / お問い合わせ\n詳細のご質問は公式LINEからお気軽にどうぞ。\n日本語・英語どちらでも対応可能です。 \n\nhttps://line.me/R/ti/p/@968ioemh\n \n\n📝 お申し込み\n下記フォームよりお申し込みください。 \nParent Name　保護者氏名 *Email　メールアドレス *Paremts Phone No.保護者電話番号12Number of Students Interested in Participating　参加者人数12Student Name　参加者氏名Student Age　参加者年齢Student Name (Second Student)2人目参加者氏名Student Age (Second Student)2人目参加者年齢Parent Questions?　ご質問I am a current Come On Out English Paid Subscriber or StudentNoYesPlease enter your subscription email *Pricing for your package is 28\,000 JPY.Pricing for your package is 56\,000JPYPricing for your package is 22\,000 JPYPricing for your package is 44\,000JPYPreferred Payment Option　お支払い方法Pay Here Using the Credit Card　クレジットカードPay Using Domestic Bank Transfer (To Mizuho Bank)銀行振込※みずほ銀行クレジット決済は本ページ上で行います。銀行振込につきましてはお申し込み後すぐに自動返信メールにて振込先をご案内します。Proceed payments with Credit / Debit Card　カード情報 *
URL:https://comeonoutenglish.com/program/p2-date-march-2026-location-miura-kaigan-rainbow-bridge-house-japan/
CATEGORIES:Past Event
ATTACH;FMTTYPE=image/png:https://comeonoutenglish.com/wp-content/uploads/2026/01/Website-Banners-10.png
END:VEVENT
BEGIN:VEVENT
DTSTART;TZID=Asia/Tokyo:20260405T110000
DTEND;TZID=Asia/Tokyo:20260405T170000
DTSTAMP:20260420T135614
CREATED:20260129T033146Z
LAST-MODIFIED:20260417T022036Z
UID:27278-1775386800-1775408400@comeonoutenglish.com
SUMMARY:[P2] Miura Beach Sunday Easter Celebration - 2026
DESCRIPTION:Email Address\n				\n			 \n				Password\n				\n			  Remember Me \n				\n				\n			 🌸 EASTER SUNDAY PARTY 🌸\n2026年4月5日（日）\nにじのはしの家（三浦海岸）\nCome join us for a fun and heart-warming Easter Sunday Party at にじのはしの家!\n三浦海岸で、アメリカンスタイルの本格イースターを一緒に楽しみませんか？ \n日本語と英語をミックスしながら、子どもも大人も「わちゃわちゃ」楽しめる、気軽であたたかい集まりです。\n初めての方も大歓迎！春の海を感じながら、のんびり楽しい日曜日を過ごしましょう。 \n\n🐣 What We’ll Do / イベント内容\n\nEaster Egg Coloring（イースターエッグの色塗り）\nEaster Egg Hunt（宝探し／子どもも大人も参加OK）\nBeach Walk（三浦海岸をお散歩）\nEaster Special Food & BBQ（イースター特別料理＆BBQ）\nAfter-Meal Class & Conversation（食後のミニクラス＆日英会話）\nLearn new recipes & enjoy cultural exchange\n新しいレシピや文化交流も楽しめます！\n\nイースターならではの\n卵に色を塗ったり、イースターバニーと一緒に宝探しをしたり、\n春らしい特別クッキングも予定しています。 \n\n🕊 Sunday Schedule / 当日のスケジュール\n12:00 – 15:00 \n🌟 Easter Egg Coloring & Appetizers\nイースターエッグ色塗り \n🌟 Easter Egg Hunt\n年齢制限なし！大人も参加OK。\nすべての卵にサプライズあり♪ \n🌟 Easter Luncheon\nメニューは後日発表予定。\nアメリカンスタイルのイースターレシピ（例：Easter Quiche）と\n三浦ならではの食材を使ったインターナショナルな料理をお楽しみください。 \n\n参加費\n一般：6\,000円 / 人\n小学生以下のお子様：無料 \n※COOE生徒保護者の方は3\,000円 \n※同時開催別プログラムの春の英語アドベンチャーキャンプにご参加の方は参加費に含まれます。 \n\n🚗 Access / アクセス\nBy Car / お車の場合\n敷地内に駐車可能です。 \nBy Train & Bus / 電車・バスの場合\n三浦海岸駅から\n京急バス（#34 / #35）で約10分\n「三浦霊園入口」または「岩浦」バス停下車 \n\n🌈 Relax & Enjoy\nプログラムはたくさんありますが、\n参加は自由！のんびり過ごすだけでもOKです。\n海を眺めながら、気軽に交流しましょう。 \n詳細のお問合せをされたい方は、\n👇下記公式LINEからご質問ください。\nhttps://line.me/R/ti/p/@968ioemh \nお申し込みは下記お申込みフォームから！お待ちしています💞\nName　お名前 *Email Address　メールアドレス *Number of participants　参加人数 *Please provide attendees Names (provide age for children please)ご参加のお子様の年齢、お名前 *I'm a parent of a Come On Out English Student　COOEの受講生ですか？ *YesはいNoいいえNumber of parent tickets you want *Parent tickets12Your Parent tickets price is 6000 JPY　合計6000円 Your Parent tickets price is 12000 JPY　合計12000円 Your Parent tickets price is 3000 JPY　合計3000円 Your Parent tickets price is 6000 JPY　合計6000円 Credit / Debit Card　クレジットカード情報 *
URL:https://comeonoutenglish.com/program/miura-beach-sunday-easter-celebration-2026/
CATEGORIES:Past Event
ATTACH;FMTTYPE=image/png:https://comeonoutenglish.com/wp-content/uploads/2026/01/Website-Banners-Easter2026.png
END:VEVENT
END:VCALENDAR