BEGIN:VCALENDAR
VERSION:2.0
PRODID:-//Come On Out English - ECPv6.15.18//NONSGML v1.0//EN
CALSCALE:GREGORIAN
METHOD:PUBLISH
X-WR-CALNAME:Come On Out English
X-ORIGINAL-URL:https://comeonoutenglish.com
X-WR-CALDESC:Events for Come On Out English
REFRESH-INTERVAL;VALUE=DURATION:PT1H
X-Robots-Tag:noindex
X-PUBLISHED-TTL:PT1H
BEGIN:VTIMEZONE
TZID:Asia/Tokyo
BEGIN:STANDARD
TZOFFSETFROM:+0900
TZOFFSETTO:+0900
TZNAME:JST
DTSTART:20230101T000000
END:STANDARD
END:VTIMEZONE
BEGIN:VEVENT
DTSTART;TZID=Asia/Tokyo:20240724T090000
DTEND;TZID=Asia/Tokyo:20240726T163000
DTSTAMP:20260420T110309
CREATED:20240620T014243Z
LAST-MODIFIED:20240812T144501Z
UID:25445-1721811600-1722011400@comeonoutenglish.com
SUMMARY:[P4] English & Science Program: July 24th - July 26th\, 2024
DESCRIPTION:Thank you to everyone who participated in the English & Science Program 2024! The event was a huge success\, and we appreciate all your support. We will be back in 2025! Stay tuned…\nHere are some pictures from our 2024 program: \n\n			\n				\n			\n			\n				\n			\n			\n				\n			\n			\n				\n			\n			\n				\n			\n			\n				\n			\n			\n				\n			\n			\n				\n			\n			\n				\n			\n			\n				\n			\n			\n				\n			\n			\n				\n			\n			\n				\n			\n			\n				\n			\n			\n				\n			\n			\n				\n			\n			\n				\n			\n			\n				\n			\n			\n				\n			\n			\n				\n			\n			\n				\n			\n			\n				\n			\n			\n				\n			\n			\n				\n			\n			\n				\n			\n			\n				\n			\n			\n				\n			\n			\n				\n			\n			\n				\n			\n			\n				\n			\n			\n				\n			\n			\n				\n			\n			\n				\n			\n			\n				\n			\n			\n				\n			\n			\n				\n			\n			\n				\n			\n			\n				\n			\n			\n				\n			\n			\n				\n			\n			\n				\n			\n			\n				\n			\n			\n				\n			\n			\n				\n			\n			\n				\n			\n			\n				\n			\n			\n				\n			\n			\n				\n			\n			\n				\n			\n			\n				\n			\n			\n				\n			\n			\n				\n			\n			\n				\n			\n			\n				\n			\n		\n\n\n\nDetails of our 2024 program:\nDates: Wednesday\, July 24th – Friday\, July 26th\, 2024\nTimes: Wednesday\, July 24th: 14:00 – 17:00\nThursday\, July 25th: 14:00 – 17:00 \nFriday\, July 26th: 9:30 – 16:30 \n      Ages: Elementary School – Junior High School (小中）\nThis program is a collaboration project between Netchu and Come On Out English. We are conducting a Science/English Summer Program! \nWe will have English Mentors from top universities in the U.S. and the U.K.\, such as Oxford\, UCLA\, and Harvard! \nThis is a valuable opportunity to speak English with real native speakers from all over the world! Let’s learn Science while speaking in English. \n \nPlease apply on the Netchu website here!\nYou may email netchuclass@gmail.com or info@comeonoutenglish.com with any questions. \n日本語も大丈夫です！
URL:https://comeonoutenglish.com/program/p4-kohitsuji-english-science-program-july-24th-july-26th-2024/
LOCATION:Kohitsuji\, 3-1-3 Kitano\, Mitaka City\, Tokyo\, 181-0003\, Japan
CATEGORIES:Past Event
ATTACH;FMTTYPE=image/png:https://comeonoutenglish.com/wp-content/uploads/2024/06/Website-Banners.png
ORGANIZER;CN="Come On Out English":MAILTO:info@comeonoutenglish.com
END:VEVENT
BEGIN:VEVENT
DTSTART;TZID=Asia/Tokyo:20240723T160000
DTEND;TZID=Asia/Tokyo:20240823T180000
DTSTAMP:20260420T110309
CREATED:20240517T080502Z
LAST-MODIFIED:20241206T091339Z
UID:25052-1721750400-1724436000@comeonoutenglish.com
SUMMARY:[P3] Dates: Tuesday\, July 23rd - Friday\, July 26th | Location: 3-1-3 Kitano\, Mitaka City\, Tokyo
DESCRIPTION:Thank you to everyone who participated Kohitsuji Summer School Program 2024! The event was a huge success\, and we appreciate all your support. We will be back in 2025! Stay tuned…\nHere are some pictures from our 2024 program: \n\n			\n				\n			\n			\n				\n			\n			\n				\n			\n			\n				\n			\n			\n				\n			\n			\n				\n			\n			\n				\n			\n			\n				\n			\n			\n				\n			\n			\n				\n			\n			\n				\n			\n			\n				\n			\n			\n				\n			\n			\n				\n			\n			\n				\n			\n			\n				\n			\n			\n				\n			\n			\n				\n			\n			\n				\n			\n			\n				\n			\n			\n				\n			\n			\n				\n			\n			\n				\n			\n			\n				\n			\n			\n				\n			\n			\n				\n			\n			\n				\n			\n			\n				\n			\n			\n				\n			\n			\n				\n			\n			\n				\n			\n			\n				\n			\n			\n				\n			\n			\n				\n			\n		\n\n  \nDetails of our 2024 program: \nDates:\nTuesday\, July 23rd\, 2024 – Friday\, July 26th\, 2024\nLocation: Kohitsuji International Training Center\nAges: 6-12\n1 day: 3\,000JPY | 2 days: 6\,000JPY | 3 days: 9\,000JPY| 4days: 10\,000JPY\nCurrent COOE Student Pricing: 1 day: 6\,000JPY | 2 days: 6\,000JPY | 3 days: 6\,000JPY| 4days: 6\,000JPY \nRegister Now\n  \nGet ready to boost your child’s English skills with our dynamic curriculum. Our engaging lessons and personalized approach ensure effective learning and confidence building. Join us for a summer of language mastery and fun! \nProgram Dates: \nTuesday\, July 23rd\, 2024 – Friday\, July 26th\, 2024 \nLocation: Kohitsuji International Training Center \nAges: 6-12 years old \nTime: 14:00-18:00 \nCurriculum\nGroup 1 Schedule: \n14:00-14:50: Group English Lesson \n14:50-15:00: Break and Snack Time (English Video Plays during Snack time) \n15:00-15:50: Group English Lesson \n15:50-16:00: Open Conversation\, Finish Worksheets \nGroup 2 Schedule: \n16:00-16:50: Group English Lesson \n16:50-17:00: Break and Snack Time (English Video Plays during Snack time) \n17:00-17:50: Group English Lesson \n17:50-18:00: Open Conversation\, Finish Worksheets \nProgram Objectives: \n\nIntroduce oneself and a friend confidently.\nShare personal information\, including place of origin.\nExpress preferences and desires related to hobbies\, sports\, and activities.\n\n\nFamily Talk:\n\nDiscuss family members by stating their names.\nProvide information about the number of siblings and their names.\nForm sentences such as “My dad’s name is…” and “I have a brother/sister.”\n\n\nMaking New Friends:\n\nAsk questions to initiate conversations.\nInquire about a person’s name\, place of origin\, age\, and well-being.\nDiscuss personal likes and favorites\, fostering connections through shared interests.\n\n\nVocabulary Building:\n\nExpand vocabulary related to food\, activities\, hobbies\, countries\, siblings\, age\, and favorites.\nPractice using new words in sentences for effective communication.\n\n\nGrammar Mastery:\n\nMaster sentence structures like “I like\,” “I don’t like\,” “I want\,” “I have\,” and “I will.”\nEngage in conversations about hobbies confidently.\nLearn the art of asking permission and framing questions appropriately.\n\n\n\n\nMeet your Instructors!\n \nWe have wonderful foreign mentors joining us from the U.S. and the U.K. that will be interacting with the students! \n  \n\n\n\n\n\nRegister for the event:\nParent Name *Parent Email *Student NameStudent AgeParent Questions?Are you a current Come On Out English Paid Subscriber or Student ?NoYesPlease enter your subscription emailWhat package are you interested in? *1 day: 3\,000JPY2 day: 6\,000JPY3 day: 9\,000JPY4 day: 10\,000JPYHow many days would you like to participate? *1 day:2 days3 days4 daysSelect the preferred timeOption : 2:00PM-4:00PMOption : 4:00PM-6:00PMNotePrice for your ticket is 6000JPY. Preferred Payment OptionPay Here Using the Credit CardPay Using Domestic Bank Transfer (To Mizuho Bank)Proceed payments with Credit / Debit Card *
URL:https://comeonoutenglish.com/program/kohitsuji-summer-school-english-program/
LOCATION:Kohitsuji\, 3-1-3 Kitano\, Mitaka City\, Tokyo\, 181-0003\, Japan
CATEGORIES:Past Event
ATTACH;FMTTYPE=image/png:https://comeonoutenglish.com/wp-content/uploads/2024/05/july.png
ORGANIZER;CN="Come On Out English":MAILTO:info@comeonoutenglish.com
END:VEVENT
BEGIN:VEVENT
DTSTART;TZID=Asia/Tokyo:20240720T140000
DTEND;TZID=Asia/Tokyo:20240720T180000
DTSTAMP:20260420T110309
CREATED:20240517T085738Z
LAST-MODIFIED:20240731T195102Z
UID:25068-1721484000-1721498400@comeonoutenglish.com
SUMMARY:[P2] Date: Saturday\, July 20th @ 2:00 pm – 6:00 pm JST | Location: Miura\, Kanagawa
DESCRIPTION:Celebrate the 10th Anniversary of Come On Out Japan Programs!\nDates: Saturday\, July 20th\nTime: 2:00pm-6:00pm\nLocation: Miura Rainbow Bridge House!\nCurrent COOE Student or family member: 3\,500JPY\nGeneral Event Ticket: 5\,000JPY\nKids 10 & Under: Free\n\nRegister Now\nCome join us for an amazing afternoon BBQ at the Miura Rainbow Bridge House for our 10th anniversary of Come On Out Japan Programs! We will have a great group of International attendees so it’s a great chance to speak English and meet some new people! Enjoy the day at the beach and then come by for some amazing food and English conversation!   \nWe will provide ingredients from the Misaki Fish Market\, Wild Game\, fresh vegetables from the Miura Peninsula and Miura Watermelon for dessert!  Learn some new grilling techniques or sit back and enjoy the view. \n\n			\n				\n			\n			\n				\n			\n			\n				\n			\n			\n				\n			\n			\n				\n			\n			\n				\n			\n			\n				\n			\n			\n				\n			\n		\n\nRegister\nBooking Name *Booking Email *Number of ticket/tickets *Free Tickets for Kids Under 10Names of attendees and their ages *Please enter the names and ages\, separated by commasPlease give us a list of your interests and the reasons you are coming to the eventAre you a current Come On Out English Paid Subscriber or StudentNoYesPlease enter your subscription emailYour total amount to pay is 5000JPY Your total amount to pay is 3500JPY Your total amount to pay is 10000JPY Your total amount to pay is 7000JPY Your total amount to pay is 15000JPY Your total amount to pay is 10500JPY Your total amount to pay is 20000JPY Your total amount to pay is 14000JPY Your total amount to pay is 25000JPY Your total amount to pay is 17500JPY Your total amount to pay is 30000JPY Your total amount to pay is 21000JPY Your total amount to pay is 35000JPY Your total amount to pay is 24500JPY Your total amount to pay is 40000JPY Your total amount to pay is 28000JPY Your total amount to pay is 45000JPY Your total amount to pay is 31500JPY Your total amount to pay is 50000JPY Your total amount to pay is 35000JPY We will email you the invoice for your tickets.  Preferred Payment OptionPay Here Using the Credit CardPay Using Domestic Bank Transfer (To Mizuho Bank)Proceed payments with Credit / Debit Card *
URL:https://comeonoutenglish.com/program/bbq-at-the-miura-rainbow-bridge-house/
CATEGORIES:Past Event
ATTACH;FMTTYPE=image/png:https://comeonoutenglish.com/wp-content/uploads/2024/05/you1.png
END:VEVENT
BEGIN:VEVENT
DTSTART;TZID=Asia/Tokyo:20240630T193000
DTEND;TZID=Asia/Tokyo:20240630T200000
DTSTAMP:20260420T110309
CREATED:20240501T092235Z
LAST-MODIFIED:20240702T111251Z
UID:24506-1719775800-1719777600@comeonoutenglish.com
SUMMARY:[P2] Date : June 30th | Mode: Facebook Live
DESCRIPTION:Crash Course for Preparing for the Eiken Exam\nDates: June 30\nTime: 19:30PM to 20:00PM JST\nAge: No age limit. All are welcome.\nReady to ace the Eiken Exam and unlock new opportunities? Join our “Eiken Exam Success” crash course designed to provide you with everything you need to know to excel. This intensive course offers a thorough understanding of the exam structure\, targeted practice for each section\, and essential tips and strategies. \nWhat You’ll Get: \n\nDetailed Overview: Learn about the different Eiken levels and what each entails.\nExam Breakdown: Understand the format and components of the exam to boost your confidence.\nTargeted Practice: Engage in exercises and mock tests tailored to each section of the exam.\nExpert Strategies: Gain insights from experienced instructors on how to tackle tricky questions and manage your time effectively.\nLanguage Skills: Improve your reading\, writing\, listening\, and speaking skills with focused lessons.\n\nWhether you’re a beginner aiming for Grade 5 or an advanced learner targeting Grade 1\, this live session is tailored to help you succeed. \nRegister in here \n 
URL:https://comeonoutenglish.com/program/p2-date-may-17th-mode-online-via-streamyard/
CATEGORIES:Past Event
ATTACH;FMTTYPE=image/png:https://comeonoutenglish.com/wp-content/uploads/2024/05/you.png
ORGANIZER;CN="Come On Out English":MAILTO:info@comeonoutenglish.com
END:VEVENT
BEGIN:VEVENT
DTSTART;VALUE=DATE:20240402
DTEND;VALUE=DATE:20240405
DTSTAMP:20260420T110309
CREATED:20240121T130107Z
LAST-MODIFIED:20240418T072045Z
UID:22462-1712016000-1712275199@comeonoutenglish.com
SUMMARY:[P5] Date: April 2nd\, 3rd\, 4th From 14:00 - 16:00 | Location: 3-1-3 Kitano\, Mitaka City\, Tokyo 181-0003
DESCRIPTION:Dates: April 2nd\,3rd & 4th (Tuesday\,Wednesday\,Thursday)\nLocation: Kohitsuji International Training Center\nTime: 14:00-16:00\nAges: 6-12\nCome join kids from the Mitaka area for a Spring Break English Program!\n1 day: 4000JPY | 2 days: 7000JPY | 3 days: 10000JPY} \nRegistration is now closed\n\nSchedule/Curriculum\n\nWe will break up into groups according to age and English level.  We will play games and have activities with the goal of having fun and learning English! \n-Please bring a snack.  We will bring International Snacks to Share! \nClass Days: April 2nd\, 3rd\, 4th \nDaily Schedule: \n14:00-14:50: Group English Lesson \n14:50-15:00: Break and Snack Time (English Video Plays during Snack time) \n15:00-15:50: Group English Lesson \n15:50-16:00: Open Conversation\, Finish Worksheets \nProgram Objectives:\n\nIntroduce oneself and a friend confidently.\nShare personal information\, including place of origin.\nExpress preferences and desires related to hobbies\, sports\, and activities.\n\n\nFamily Talk:\n\nDiscuss family members by stating their names.\nProvide information about the number of siblings and their names.\nForm sentences such as “My dad’s name is…” and “I have a brother/sister.”\n\n\nMaking New Friends:\n\nAsk questions to initiate conversations.\nInquire about a person’s name\, place of origin\, age\, and well-being.\nDiscuss personal likes and favorites\, fostering connections through shared interests.\n\n\nVocabulary Building:\n\nExpand vocabulary related to food\, activities\, hobbies\, countries\, siblings\, age\, and favorites.\nPractice using new words in sentences for effective communication.\n\n\nGrammar Mastery:\n\nMaster sentence structures like “I like\,” “I don’t like\,” “I want\,” “I have\,” and “I will.”\nEngage in conversations about hobbies confidently.\nLearn the art of asking permission and framing questions appropriately.\n\n\n\nCounselors\n \n  \n\n			\n				\n			\n			\n				\n			\n			\n				\n			\n			\n				\n			\n			\n				\n			\n			\n				\n			\n			\n				\n			\n			\n				\n			\n			\n				\n			\n			\n				\n			\n			\n				\n			\n			\n				\n			\n		\n\nEmail us for more information: info@comeonoutenglish.com
URL:https://comeonoutenglish.com/program/kohitsuji-kids-english-program/
LOCATION:Kohitsuji\, 3-1-3 Kitano\, Mitaka City\, Tokyo\, 181-0003\, Japan
CATEGORIES:Past Event
ATTACH;FMTTYPE=image/png:https://comeonoutenglish.com/wp-content/uploads/2024/01/4-1.png
ORGANIZER;CN="Come On Out English":MAILTO:info@comeonoutenglish.com
END:VEVENT
BEGIN:VEVENT
DTSTART;TZID=Asia/Tokyo:20240329T100000
DTEND;TZID=Asia/Tokyo:20240331T160000
DTSTAMP:20260420T110309
CREATED:20240116T100505Z
LAST-MODIFIED:20240418T073454Z
UID:22035-1711706400-1711900800@comeonoutenglish.com
SUMMARY:[P3] Date: March 29th-31st | Location: Miura Kaigan\, Rainbow Bridge House\, Japan
DESCRIPTION:Spring English Program (Miura Kaigan\, Rainbow Bridge House)\nMarch 29th-31st\nAges: Open to Elementary\, JH &HS students\nCamp Theme-Spring Break in Miura!\n  \n\n Friday\, 29th\nEnglish Adventure Day #1 \n10:00 Meet Up/Shinagawa station\n10:15 Depart for Miura\n11:45 – 12:30 Welcome to the Rainbow Bridge House/Orientation\n12:30 – 13:15 Bento Lunch(students bring)\n13:30 – 15:00 English Lessons (1 on 1 and group)\n15:00 – 16:30 Afternoon Hike: Beach/Shrine/Farm\n16:30 – 17:00 Rest\n17:00 – 18:00 Cooking Workshop\n18:00 – 19:30 Dinner\n20:00 – 22:00 English Movie Night\n20:00 – 20:30 Goodnight\n\nSaturday\, 30th\nEnglish Adventure Day #2 \n8:00 – 8:45 Breakfast\n9:00 – 10:30 English Lessons (1 on 1 and Group)\n10:45 Depart for Jogashima & Misaki Fish Market Field Trip (Public Bus)\n16:00 – 16:30 Return to Beach House/ Rest\n16:30 – 17:30 English Lessons ( 1 on 1 and Group)\n17:30 – 18:30 Cooking/BBQ Workshop\n18:30 – 19:30 Dinner\n20:00 – 21:00 Sparklers “Hanabi” & camp fire (weather pending)\n21:00 – 22:00 English Lessons Camp Activities\n22:00 – 22:30: Goodnight\n\nSunday\, 31st\nEaster Preparation and Celebration! Day #3\n \n8:00-9:00Breakfast cooking/baking workshop\n9:00-10:00 English Lessons (Presentation Practice: What I did and enjoyed in Miura!)\n10:00-11:00 Cooking Workshop Prep for Easter Lunch\n11:00-15:00 Easter Event Day\n-Easter Egg Coloring\n-Scavenger Hunt/East Egg Hunt\n-Easter Party (Parents Welcome)\n15:00-15:30Student English Presentations to Parents\n16:00 Students Depart with Parents OR Depart from MiuraKaigan Station\n  \nLocation: Rainbow Bridge House\n\nPricing:  \n42\,500 JPY (Non Come on Out English Students) \n32\,500 JPY (Current Come on Out English Students) \nMaximum of 10-12 students will be accepted into this program.  We will have 3 English Counselors.\nSunday Easter portion (11:00-15:00) is a group/family event with other Japanese and International attendees. We look forward to having an amazing weekend event with attendees in Japan and around the world !\n \nRegistration is now closed\n\n\n \n\n\n  \n\nWhat should my child Bring?\n\n1 small backpack with day trip items (for field trip)\n1 duffel bag/small suitcase for overnight/weekend items\nFriday Lunch Bento Box\nSuica/Pasmo card for public transportation\n– Shinagawa-Miura Kaigan (Train)\n– Miurakaigan-Beach House (Bus)\n– Beach House-Jogashima/Misaki (Bus-round trip)\n– If parents are not attending Sunday event\, they will also need suica funds from Miura Kaigan-Shinagawa on Sunday.\nComfortable walking shoes\n1 notebook and pencil case\nDigital camera or smart phone-we will use the camera for the photo scavenger hunt!\n\nWhat is provided?\n\nFood: Friday dinner\, Saturday breakfast\, lunch dinner\, Sunday breakfast\, lunch\nand lots of snacks as needed! **please notify us of any food allergies/restrictions\nEnglish Materials: Each Student will be provided a folder with learning materials\, weekend schedule\nLINE group with parents for communication\nDaily 1 on 1 and group English Lessons\nWe have 1-2 bilingual counselors that will support students when needed\, other than that all activities and lessons with be 100% in English\n\nAdditional Notes:\n\nFood Restrictions/Allergies: If your child needs special food or has any allergies let us know.\nField Trips:\n– Friday Beach/Shrine/Farm hike: We will walk directly from beach house to these locations.\n– Saturday Jogashima/Misaki: We will travel by Bus to Jogashima and hike through Jogashima park. We will then go to the Misaki Seaside Fish Market where we will shop for the BBQ food\n\n \n 
URL:https://comeonoutenglish.com/program/miura-spring-english-program/
LOCATION:[Miura Spring English Adventure Camp Location]\, Miura Rainbow Bridge House\, 神奈川県三浦市南下浦金田\, Japan
CATEGORIES:Past Event
ATTACH;FMTTYPE=image/png:https://comeonoutenglish.com/wp-content/uploads/2024/01/2-2.png
ORGANIZER;CN="Come On Out English":MAILTO:info@comeonoutenglish.com
END:VEVENT
BEGIN:VEVENT
DTSTART;VALUE=DATE:20240301
DTEND;VALUE=DATE:20240501
DTSTAMP:20260420T110309
CREATED:20240208T144254Z
LAST-MODIFIED:20260311T113322Z
UID:22273-1709251200-1714521599@comeonoutenglish.com
SUMMARY:[P1] Date: Thursdays (New Tuesday Classes Coming Soon!) Level 2: 16:45 – 17:45 | Level 1: 17:45 to 18:45 | Location:  3-1-3 Kitano\, Mitaka City\, Tokyo 181-0003
DESCRIPTION:こひつじ　英語アフタースクールクラブ\n毎週　木曜日 \n定期の対面レッスンです \n※現在火曜日クラスも準備中！ \n場所:\n\nこひつじ国際共育センター\n \n≪クラスはレベル別の２つ！≫ \nLevel 2: 16:45 – 17:45\nLevel 1: 17:45 – 18:45\n対象年齢: 4才-12才\n\n年間登録・教材費：お一人あたり5\,000円\n月額受講料：12\,000円（兄弟割引：2人で20\,000円）\n \n\nまずはアンケートフォームにご入力いただき無料体験レッスンにご参加ください！\n \n↓　↓　↓ \n\n木曜日クラス無料体験レッスン申込み\n\nページをご覧いただき、ありがとうございます！ \n\nクラスに入るには？\n各クラス随時募集受け付けております。\n月半ばでご入会いただいた場合は、日割り計算でのお支払いになります。\n（通常月４回開講・12\,000円／月） \n何歳から入れますか？\n4才からの受講が可能です。 \n開講日は？\n毎週木曜日です。\n（2025年春より火曜日クラスも開講予定です！） \n費用について\n年間登録費・教材費として5\,000円を頂戴しています。\nこの費用は、最初の参加の月または毎年4月15日にお支払いいただきます。 \n【初月のお支払い例】\n月額利用料 12\,000円 ＋ 登録・教材費 5\,000円 ＝ 合計 17\,000円（税込別） \n※翌月以降は、月額利用料 12\,000円（税込別）のみとなります。\n※兄弟でご利用の場合は、お一人あたり月額10\,000円（税込別）となります。 \nお支払い方法\nお支払いは、毎月15日にご登録のクレジットカードを通しての自動決済となります。 \n\nタイムスケジュール\n🌟木曜日スケジュール\n16:45〜17:00：レベル2の生徒到着（英語ビデオ／おやつタイム） \n17:00〜17:45：レベル2クラス \n17:45〜18:00：レベル1の生徒到着（英語ビデオ／おやつタイム／宿題） \n18:00〜18:45：レベル1クラス \n18:45〜19:00：帰宅準備・お迎え待ち \n19:00：お迎え \n\n🌟火曜日スケジュール（※2025年春開講・準備中）\n16:45〜17:00：セッション1の生徒到着（英語ビデオ／おやつタイム） \n17:00〜17:45：セッション1クラス \n17:45〜18:00：セッション2の生徒到着（英語ビデオ／おやつタイム／宿題） \n18:00〜18:45：セッション2クラス \n18:45〜19:00：帰宅準備お迎え待ち \n19:00：お迎え \n\n先生たちのご紹介\n\n			\n				\n			\n				\n				Brian Neufuss\n				\n			\n				\n			\n				\n				Niza Sensei\n				\n			\n				\n			\n				\n				Gabby Sensei\n				\n		\n\n\n			\n				\n			\n			\n				\n			\n			\n				\n			\n			\n				\n			\n			\n				\n			\n			\n				\n			\n			\n				\n			\n			\n				\n			\n			\n				\n			\n			\n				\n			\n			\n				\n			\n			\n				\n			\n		\n\n\nメールマガジン登録\nその他のイベント情報もお送り出来ます！ \nまずはメールマガジンにご登録ください。 \n↓↓ \nお問い合わせ:\ninfo@comeonoutenglish.com
URL:https://comeonoutenglish.com/program/kohitsuji-after-school-program/
LOCATION:[After School Club Location]\, 3-1-3 Kitano\,Mitaka City\, Tokyo\, 181-0003\, Japan
CATEGORIES:After School Classes
ATTACH;FMTTYPE=image/png:https://comeonoutenglish.com/wp-content/uploads/2024/02/Website-Banners-4.png
ORGANIZER;CN="Come On Out English":MAILTO:info@comeonoutenglish.com
END:VEVENT
BEGIN:VEVENT
DTSTART;TZID=Asia/Tokyo:20240117T174000
DTEND;TZID=Asia/Tokyo:20240117T190000
DTSTAMP:20260420T110309
CREATED:20240117T151110Z
LAST-MODIFIED:20241210T045959Z
UID:22294-1705513200-1705518000@comeonoutenglish.com
SUMMARY:Kohitsuji After School Club (4-12 year olds)
DESCRIPTION:Please use the below form for registrations
URL:https://comeonoutenglish.com/program/kohitsuji-after-school-club-5-10-year-olds-2/
ATTACH;FMTTYPE=image/png:https://comeonoutenglish.com/wp-content/uploads/2024/01/Website-Banners-3.png
END:VEVENT
END:VCALENDAR