BEGIN:VCALENDAR
VERSION:2.0
PRODID:-//Come On Out English - ECPv6.15.18//NONSGML v1.0//EN
CALSCALE:GREGORIAN
METHOD:PUBLISH
X-ORIGINAL-URL:https://comeonoutenglish.com
X-WR-CALDESC:Events for Come On Out English
REFRESH-INTERVAL;VALUE=DURATION:PT1H
X-Robots-Tag:noindex
X-PUBLISHED-TTL:PT1H
BEGIN:VTIMEZONE
TZID:Asia/Tokyo
BEGIN:STANDARD
TZOFFSETFROM:+0900
TZOFFSETTO:+0900
TZNAME:JST
DTSTART:20240101T000000
END:STANDARD
END:VTIMEZONE
BEGIN:VEVENT
DTSTART;TZID=Asia/Tokyo:20250331T154500
DTEND;TZID=Asia/Tokyo:20250404T181500
DTSTAMP:20260420T135334
CREATED:20241206T091213Z
LAST-MODIFIED:20250411T120651Z
UID:25857-1743435900-1743790500@comeonoutenglish.com
SUMMARY:[P3]  Date: March 31st-April 4th\, From 15:45 - 18:15 | Location: 3-1-3 Kitano\, Mitaka City\, Tokyo 181-0003
DESCRIPTION:Dates: March 31st to April 4th\, 2025 (Monday-Friday)\nLocation: Kohitsuji International Training Center\nTime: 15:45-18:15\nRecommended Ages: 6-12\nCome join kids from the Mitaka area for a Spring Break English Program! \nRegister Now!\n*Deadline to register is February 28th\, 2025 at 23:59 JST \nCost\n1 day: 4\,000 JPY (2.5 hours)\n2 day : 7\,000 JPY (5 hours)\n3 day: 10\,000 JPY (7.5 hours)\n4 day : 12\,000 JPY (10 hours)\n5 day: 12\,000 JPY (12.5 hours)\nCurrent Come on Out English Student? \nYou are eligible to receive a discount! Indicate that you are a COOE Student in the registration form to receive the discount! \n(Current Come on Out English Online or After School Club Students receive discounts to all of our face to face programs!)   \n\nSchedule/Curriculum:\nWe will break up into groups according to age and English level.  We will play games and engage in activities designed to be both fun and educational\, helping your child improve their English! Please bring a snack. We will bring international snacks to share! \nDaily Schedule:  \nStudent Arrival: 15:45   (students can arrive anytime) \nLesson 1: 16:00-16:45 \nBreak/FreeTime/English Videos: 16:45-17:00 \nLesson 2: 17:00-17:45 \nBreak/FreeTime/English Videos:17:45-18:00 \nKids depart by: 18:15 \nProgram Objectives:\n\nIntroduce oneself and a friend confidently.\nShare personal information\, including place of origin.\nExpress preferences and desires related to hobbies\, sports\, and activities.\n\n\nFamily Talk:\n\nDiscuss family members by stating their names.\nProvide information about the number of siblings and their names.\nForm sentences such as “My dad’s name is…” and “I have a brother/sister.”\n\n\nMaking New Friends:\n\nAsk questions to initiate conversations.\nInquire about a person’s name\, place of origin\, age\, and well-being.\nDiscuss personal likes and favorites\, fostering connections through shared interests.\n\n\nVocabulary Building:\n\nExpand vocabulary related to food\, activities\, hobbies\, countries\, siblings\, age\, and favorites.\nPractice using new words in sentences for effective communication.\n\n\nGrammar Mastery:\n\nMaster sentence structures like “Can I…\,” “I want\,” “I have\,” and “I will.”\nEngage in conversations about hobbies confidently.\nLearn the art of asking permission and framing questions appropriately.\n\n\n\nTeachers\n\n			\n				\n			\n				\n				Brian Neufuss\n				\n			\n				\n			\n				\n				Niza Sensei\n				\n			\n				\n			\n				\n				Gabby Sensei\n				\n		\n\nEmail us for more information: info@comeonoutenglish.com \nREGISTER NOW!\n  \nParent Name *Parent Email *Number of Students Interested in Participating *Number of Students Interested in Participating12Student Name *Student Age *Student Name (Second Student) *Student Age (Second Student) *Parent Questions?Are you a current Come On Out English Paid Subscriber or Student ?NoYesPlease enter your subscription emailHow many days would you like to attend? *1 day: 4\,000JPY2 days: 7\,000JPY3 days: 10\,000JPY4 or 5 days: 12\,000JPYHow many days would you like to attend? *1-2 days: 4\,000JPY3-5 days: 8\,000JPYPlease specify the dates you will be participating. *March 31stApril 1stApril 2ndApril 3rdApril 4thPreferred Payment OptionPay Here Using the Credit CardPay Using Domestic Bank Transfer (To Mizuho Bank)Proceed payments with Credit / Debit Card *
URL:https://comeonoutenglish.com/program/kohitsuji-2025-spring-english-program/
LOCATION:Kohitsuji\, 3-1-3 Kitano\, Mitaka City\, Tokyo\, 181-0003\, Japan
CATEGORIES:Past Event
ATTACH;FMTTYPE=image/png:https://comeonoutenglish.com/wp-content/uploads/2024/12/Website-Banners-5.png
ORGANIZER;CN="Come On Out English":MAILTO:info@comeonoutenglish.com
END:VEVENT
BEGIN:VEVENT
DTSTART;TZID=Asia/Tokyo:20250420T110000
DTEND;TZID=Asia/Tokyo:20250420T150000
DTSTAMP:20260420T135334
CREATED:20240117T144049Z
LAST-MODIFIED:20250514T111333Z
UID:22266-1745146800-1745161200@comeonoutenglish.com
SUMMARY:[P5] Date: April 20 @ 11:00 am - 3:00 pm JST | Location: Miura\, Kanagawa
DESCRIPTION:Sunday Easter Celebration 2025\n(Miura Rainbow Bridge House)\nApril 20th\, 2025 @ 11:00 am – 3:00 pm JST\nLocation: Miura Rainbow Bridge House\nCome join us for an exciting Sunday Easter Celebration at the Miura Rainbow Bridge House!\n\nStudents Tickets\nPrice for one student 11-17: 3000 JPY.\nAny Students 10 and under: FREE (accompanied by their parent)\nCOOE students (11-17 age) : FREE (accompanied by their parent) \nParents Tickets\nPrice for adults : 6\,000 JPY\nCOOE students parents: 4000JPY \nFamily Package\nFamily package: (2 adults + child (11-17):  12\,000 JPY\n\n\n\nRegister Now!\nアメリカンスタイルの本格的イースターを三浦海岸で楽しみましょー！日本語、英語ちゃんぽんで、子ども達もわちゃわちゃ楽しめる気軽な会にしたいと思います。 \nEaster Egg Coloring\, Beach Walk\, Easter Egg hunting\, Easter special food & BBQ\,  Easter Lunch\, English/Japanese Conversation\, learn new recipes\, relax and enjoy the beautiful beach and view of Tokyo Bay!\nイースターには卵に色を塗ったり、イースターバニーというキャラクターと宝探しをします。イースターの特別クッキングも楽しみましょう。 \nSunday Schedule : \n11:00am – 12:00 Noon: Easter Egg Coloring and Appetizers \n12:00 – 13:00: Easter Egg Hunt-kid’s of all ages (and adults!) can take part in an easter egg hunt. Each egg has a surprise! \n13:00 – 15:00: Easter luncheon: Menu is TBD but will typically be an international Fusion of American Style Easter Recipes and Local fish/meat and vegetables from the Miura Region. \nBy Car: Parking Available at the house\nBy Train/Bus: From Miura Kaigan Station-10 minute Bus(#34/#35) to Miura Reien Iriguchi or Iwaura Bus Stop \nWe will have several functions\, but you can just chill and hang out too:) \n  \n\n			\n				\n			\n			\n				\n			\n			\n				\n			\n			\n				\n			\n			\n				\n			\n			\n				\n			\n			\n				\n			\n			\n				\n			\n			\n				\n			\n			\n				\n			\n			\n				\n			\n			\n				\n			\n			\n				\n			\n			\n				\n			\n		\n\n\n\nName *Email Address *Number of participants *Please provide attendees Names (provide age for children please) *Tickets I'm a parent of a Come On Out English Student *YesNoI want to purchase the family package *YesNoNumber of student tickets you want (11-17 age) *Student tickets0 (My kids are under 10)123Number of parent tickets you want *Parent tickets12Your Student tickets price is 3000 JPY Your Student tickets price is 6000 JPY Your Student tickets price is 9000 JPY Your Parent tickets price is 6000 JPY Your Parent tickets price is 12000 JPY Your Parent tickets price is 4000 JPY Your Parent tickets price is 8000 JPY Your Student tickets price 0 JPY Family Package price is 12000 JPY Credit / Debit Card *
URL:https://comeonoutenglish.com/program/2025-easter-sunday-celebration/
LOCATION:にじのはしのいえ  京急　三浦海岸駅からバスで12分\, Kaneda-2006 Minamishitauramachi\, Miura\,\, Kanagawa\, 238-0103\, Japan
CATEGORIES:Past Event
ATTACH;FMTTYPE=image/png:https://comeonoutenglish.com/wp-content/uploads/2024/01/3.png
ORGANIZER;CN="Come On Out English":MAILTO:info@comeonoutenglish.com
END:VEVENT
END:VCALENDAR