BEGIN:VCALENDAR
VERSION:2.0
PRODID:-//Come On Out English - ECPv6.15.18//NONSGML v1.0//EN
CALSCALE:GREGORIAN
METHOD:PUBLISH
X-ORIGINAL-URL:https://comeonoutenglish.com
X-WR-CALDESC:Events for Come On Out English
REFRESH-INTERVAL;VALUE=DURATION:PT1H
X-Robots-Tag:noindex
X-PUBLISHED-TTL:PT1H
BEGIN:VTIMEZONE
TZID:Asia/Tokyo
BEGIN:STANDARD
TZOFFSETFROM:+0900
TZOFFSETTO:+0900
TZNAME:JST
DTSTART:20240101T000000
END:STANDARD
END:VTIMEZONE
BEGIN:VEVENT
DTSTART;TZID=Asia/Tokyo:20250625T160000
DTEND;TZID=Asia/Tokyo:20250627T190000
DTSTAMP:20260420T103607
CREATED:20250303T143620Z
LAST-MODIFIED:20250807T123317Z
UID:26283-1750867200-1751050800@comeonoutenglish.com
SUMMARY:[P6] Date: July 23rd-25th | Location: 3-1-3 Kitano\, Mitaka City\, Tokyo 181-0003
DESCRIPTION:こひつじ夏の国際交流　英語特別クラス\n🌟 子どもたちのためのワクワクする英語学習と国際交流のチャンス！🌟\n日程： 2025年7月23日（水）〜25日（金）\n 場所： こひつじ国際共育センター\n 時間： 16:00〜18:00\n 対象年齢： 6歳〜18歳　（小学生～高校生）\n  \nカモンアウトイングリッシュでは、お子さまが気軽に楽しく参加できる英語学習の機会をと考え、夏の特別クラスを企画しました！ \nこの度は、 新たに資格を取得した英語教師による、マンツーマンおよびグループレッスンにご参加いただけます。 \nレッスンは仲間と楽しいゲームで交流したり、アクティビティを通じて英語を覚えられる内容です。 \n海外からやってきた先生たちとの交流を通して、国際交流を楽しみ、英語力をUP！ \n英語を学び、英語を使い、交流する体験を通じて、 \n子どもたちが「自信」をつけることができるプログラムです。 \nぜひご参加ください！ \n　　1日のスケジュール：7月23日・24日・25日どの日も同じスケジュールです。\n　　　15:45〜16:00　入室・準備 \n　　　16:00〜16:50　第1セッション \n　　　17:00〜17:50　第2セッション \n　　　18:00　解散　（～19:00お迎え） \n　　各日6〜12名の教師が対応予定！　1対1の丁寧なレッスンを行います。 \n\n参加費： \n　　　一般： 1日／2\,000円（税込） \n　　　COOE英語クラス受講生：　3日間（全セッション参加可）3\,000円（税込）　 \n  \nお申し込みはこちらから！\nPhotos from 2024\n  \n\n			\n				\n			\n			\n				\n			\n			\n				\n			\n			\n				\n			\n			\n				\n			\n			\n				\n			\n			\n				\n			\n			\n				\n			\n			\n				\n			\n			\n				\n			\n			\n				\n			\n			\n				\n			\n		\n\n  \nお申し込みはこちらから！\n保護者氏名（Parent Name） *保護者E-mail（Parent Email） *参加者氏名（Student Name） *参加者の年齢（Student Age） *メッセージ・ご質問（Parent Questions?）何日間出席する予定ですか? How many dates are you willing to attend? *3日間2日間1日どの日程のレッスンにご興味をお持ちですか？（What Date/Dates are you interested in?） *7月23日(水)　July 23rd (Wednesday)7月24日(木)　July 24th (Thursday)7月25日(金)　July 25th (Friday)ご都合のよい時間帯をお知らせください（Select the preferred time *16時～16時50分Option : 4:00PM-4:50PM17時～17時50分　Option : 5:00PM-5:50PMすでにCOOE（カモンアウトイングリッシュ）の他のプログラムの受講生ですか？ARE YOU a current COOE student? *回答を選択してください（Select）YesNoHTMLTotal Cost is 2000JPY. HTMLTotal Cost is 4000JPY. HTMLTotal Cost is 6000JPY. HTMLTotal Cost is 3000JPY. 登録したいメールアドレス　（Please provide your subscription Email address）Credit / Debit Card *
URL:https://comeonoutenglish.com/program/english-adventure-fun-learn-english-sessions-2025/
CATEGORIES:Past Event
ATTACH;FMTTYPE=image/png:https://comeonoutenglish.com/wp-content/uploads/2025/03/Website-Banners-1.png
END:VEVENT
END:VCALENDAR